BEGIN:VCALENDAR
VERSION:2.0
METHOD:PUBLISH
CALSCALE:GREGORIAN
PRODID:-//Refresh Web Development//Helios Calendar//EN
X-FROM-URL:https://www.bayareascience.org/calendar/index.php?com=details&eID=32560
X-WR-RELCALID:BayAreaScience.org  NightSchool: Animal Navigation - Livestream 20220818T190000
X-WR-TIMEZONE:America/New_York
X-WR-CALNAME:BayAreaScience.org
BEGIN:VEVENT
URL;VALUE=URI:https://www.bayareascience.org/calendar/index.php?com=detail&eID=32560
DTSTART:20220818T190000
DTEND:20220818T190000
SUMMARY: NightSchool: Animal Navigation - Livestream
DESCRIPTION:Animals don't use GPS to navigate the world around them\, so how do they do it? Join us for a night featuring some of the amazing science behind communication and wayfinding in nature.Sharks...\n______________________________\nThis Event Downloaded From a Helios Calendar Powered Site
LOCATION:California Academy of Sciences -  \, \, CA  
CATEGORIES:BayAreaScience.org Events
PRIORITY:0
TRANSP:TRANSPARENT
END:VEVENT
END:VCALENDAR