BEGIN:VCALENDAR
VERSION:2.0
METHOD:PUBLISH
CALSCALE:GREGORIAN
PRODID:-//Refresh Web Development//Helios Calendar//EN
X-FROM-URL:https://www.bayareascience.org/calendar/index.php?com=details&eID=32561
X-WR-RELCALID:BayAreaScience.org Virtual Telescope Viewing: the Return of Saturn 20220818T210000
X-WR-TIMEZONE:America/New_York
X-WR-CALNAME:BayAreaScience.org
BEGIN:VEVENT
URL;VALUE=URI:https://www.bayareascience.org/calendar/index.php?com=detail&eID=32561
DTSTART:20220818T210000
DTEND:20220818T220000
SUMMARY:Virtual Telescope Viewing: the Return of Saturn
DESCRIPTION:Stay up with Chabot Astronomers on a Journey to the sixth planet from the Sun\, Saturn\, also known as the â€œJewel of the Solar Systemâ€!Saturn...\n______________________________\nThis Event Downloaded From a Helios Calendar Powered Site
LOCATION:Chabot Space and Science Center -  \, \, CA  
CATEGORIES:BayAreaScience.org Events
PRIORITY:0
TRANSP:TRANSPARENT
END:VEVENT
END:VCALENDAR