BEGIN:VCALENDAR
VERSION:2.0
METHOD:PUBLISH
CALSCALE:GREGORIAN
PRODID:-//Refresh Web Development//Helios Calendar//EN
X-FROM-URL:https://www.bayareascience.org/calendar/index.php?com=details&eID=32563
X-WR-RELCALID:BayAreaScience.org Fungi for Bioremediation 20220915T180000
X-WR-TIMEZONE:America/New_York
X-WR-CALNAME:BayAreaScience.org
BEGIN:VEVENT
URL;VALUE=URI:https://www.bayareascience.org/calendar/index.php?com=detail&eID=32563
DTSTART:20220915T180000
DTEND:20220915T180000
SUMMARY:Fungi for Bioremediation
DESCRIPTION:Bioremediation refers to cost-effective and environment-friendly method for converting the toxic\, recalcitrant pollutants into environmentally benign products through the action of various biological...\n______________________________\nThis Event Downloaded From a Helios Calendar Powered Site
LOCATION:Bay Area Mycological Association - Laguna de Santa Rosa Foundation 900 Sanford Road\, Santa Rosa\, CA  95401
CATEGORIES:BayAreaScience.org Events
PRIORITY:0
TRANSP:TRANSPARENT
END:VEVENT
END:VCALENDAR