BEGIN:VCALENDAR
VERSION:2.0
METHOD:PUBLISH
CALSCALE:GREGORIAN
PRODID:-//Refresh Web Development//Helios Calendar//EN
X-FROM-URL:https://www.bayareascience.org/calendar/index.php?com=details&eID=32573
X-WR-RELCALID:BayAreaScience.org Two Talks: Popping the Science Bubble - Livestream 20220816T173000
X-WR-TIMEZONE:America/New_York
X-WR-CALNAME:BayAreaScience.org
BEGIN:VEVENT
URL;VALUE=URI:https://www.bayareascience.org/calendar/index.php?com=detail&eID=32573
DTSTART:20220816T173000
DTEND:20220816T183000
SUMMARY:Two Talks: Popping the Science Bubble - Livestream
DESCRIPTION:Itâ€™s not easy staying green: Understanding Plant Immune SystemsSpeaker: Chandler Sutherland\, UC BerkeleyPlant...\n______________________________\nThis Event Downloaded From a Helios Calendar Powered Site
LOCATION:Berkeley Public Library -  \, \, CA  
CATEGORIES:BayAreaScience.org Events
PRIORITY:0
TRANSP:TRANSPARENT
END:VEVENT
END:VCALENDAR