BEGIN:VCALENDAR
VERSION:2.0
METHOD:PUBLISH
CALSCALE:GREGORIAN
PRODID:-//Refresh Web Development//Helios Calendar//EN
X-FROM-URL:https://www.bayareascience.org/calendar/index.php?com=details&eID=32576
X-WR-RELCALID:BayAreaScience.org Strong Light-Matter Interaction in the Deeply Sub-wavelength Regime 20220909T140000
X-WR-TIMEZONE:America/New_York
X-WR-CALNAME:BayAreaScience.org
BEGIN:VEVENT
URL;VALUE=URI:https://www.bayareascience.org/calendar/index.php?com=detail&eID=32576
DTSTART:20220909T140000
DTEND:20220909T150000
SUMMARY:Strong Light-Matter Interaction in the Deeply Sub-wavelength Regime
DESCRIPTION:The interaction between light - or more broadly\, electromagnetic fields - and condensed matter underpins an extremely broad range of modern technology. As devices shrink into the nanoscale\, we...\n______________________________\nThis Event Downloaded From a Helios Calendar Powered Site
LOCATION:Tan Hall - UC Berkeley Room 180\, Berkeley\, CA  94720
CATEGORIES:BayAreaScience.org Events
PRIORITY:0
TRANSP:TRANSPARENT
END:VEVENT
END:VCALENDAR