BEGIN:VCALENDAR
VERSION:2.0
METHOD:PUBLISH
CALSCALE:GREGORIAN
PRODID:-//Refresh Web Development//Helios Calendar//EN
X-FROM-URL:https://www.bayareascience.org/calendar/index.php?com=details&eID=32578
X-WR-RELCALID:BayAreaScience.org Engineering Polymeric Materials to Study Cancer Dynamics 20220930T140000
X-WR-TIMEZONE:America/New_York
X-WR-CALNAME:BayAreaScience.org
BEGIN:VEVENT
URL;VALUE=URI:https://www.bayareascience.org/calendar/index.php?com=detail&eID=32578
DTSTART:20220930T140000
DTEND:20220930T150000
SUMMARY:Engineering Polymeric Materials to Study Cancer Dynamics
DESCRIPTION:Cell-induced matrix remodeling is a hallmark of both disease and regeneration. My lab develops biomaterials and matrix characterization methods to study these dynamic cell-matrix interactions....\n______________________________\nThis Event Downloaded From a Helios Calendar Powered Site
LOCATION:Tan Hall - UC Berkeley Room 180\, Berkeley\, CA  94720
CATEGORIES:BayAreaScience.org Events
PRIORITY:0
TRANSP:TRANSPARENT
END:VEVENT
END:VCALENDAR