BEGIN:VCALENDAR
VERSION:2.0
METHOD:PUBLISH
CALSCALE:GREGORIAN
PRODID:-//Refresh Web Development//Helios Calendar//EN
X-FROM-URL:https://www.bayareascience.org/calendar/index.php?com=details&eID=32595
X-WR-RELCALID:BayAreaScience.org Reading the Tea Leaves of Eternity: Dark Energy, Dark Matter, and the Beginning of Time 20220827T160000
X-WR-TIMEZONE:America/New_York
X-WR-CALNAME:BayAreaScience.org
BEGIN:VEVENT
URL;VALUE=URI:https://www.bayareascience.org/calendar/index.php?com=detail&eID=32595
DTSTART:20220827T160000
DTEND:20220827T180000
SUMMARY:Reading the Tea Leaves of Eternity: Dark Energy\, Dark Matter\, and the Beginning of Time
DESCRIPTION:New Messengers (Gravitational Waves and Neutrinos) and What They Can Tell UsThe speakers will give a 90-minute talk followed by 30 minutes of question and answerSpeakers:...\n______________________________\nThis Event Downloaded From a Helios Calendar Powered Site
LOCATION:Jonas Center - College of Marin 1800 Ignacio Blvd\, Novato\, CA  94949
CATEGORIES:BayAreaScience.org Events
PRIORITY:0
TRANSP:TRANSPARENT
END:VEVENT
END:VCALENDAR