BEGIN:VCALENDAR
VERSION:2.0
METHOD:PUBLISH
CALSCALE:GREGORIAN
PRODID:-//Refresh Web Development//Helios Calendar//EN
X-FROM-URL:https://www.bayareascience.org/calendar/index.php?com=details&eID=32596
X-WR-RELCALID:BayAreaScience.org What a Mushroom Lives For: Matsutake and the Worlds They Make - Livestream 20220920T190000
X-WR-TIMEZONE:America/New_York
X-WR-CALNAME:BayAreaScience.org
BEGIN:VEVENT
URL;VALUE=URI:https://www.bayareascience.org/calendar/index.php?com=detail&eID=32596
DTSTART:20220920T190000
DTEND:20220920T210000
SUMMARY:What a Mushroom Lives For: Matsutake and the Worlds They Make - Livestream
DESCRIPTION:In this talk\, Michael will provide an introduction to his latest book\, What a Mushroom Lives For: Matsutake and the Worlds They Make\, which was just published by Princeton University Press....\n______________________________\nThis Event Downloaded From a Helios Calendar Powered Site
LOCATION:Mycological Society of San Francisco -  \, \, CA  
CATEGORIES:BayAreaScience.org Events
PRIORITY:0
TRANSP:TRANSPARENT
END:VEVENT
END:VCALENDAR