BEGIN:VCALENDAR
VERSION:2.0
METHOD:PUBLISH
CALSCALE:GREGORIAN
PRODID:-//Refresh Web Development//Helios Calendar//EN
X-FROM-URL:https://www.bayareascience.org/calendar/index.php?com=details&eID=32597
X-WR-RELCALID:BayAreaScience.org FDL Live Showcase 2022 - Livestream 20220812T080000
X-WR-TIMEZONE:America/New_York
X-WR-CALNAME:BayAreaScience.org
BEGIN:VEVENT
URL;VALUE=URI:https://www.bayareascience.org/calendar/index.php?com=detail&eID=32597
DTSTART:20220812T080000
DTEND:20220812T113000
SUMMARY:FDL Live Showcase 2022 - Livestream
DESCRIPTION:In this moment of planetary emergency\, we are witnessing a powerful emergence.Applied AI is becoming a key tool for tackling the crucial challenges of our time\, while also enabling exciting...\n______________________________\nThis Event Downloaded From a Helios Calendar Powered Site
LOCATION:SETI Institute -  \, \, CA  
CATEGORIES:BayAreaScience.org Events
PRIORITY:0
TRANSP:TRANSPARENT
END:VEVENT
END:VCALENDAR