BEGIN:VCALENDAR
VERSION:2.0
METHOD:PUBLISH
CALSCALE:GREGORIAN
PRODID:-//Refresh Web Development//Helios Calendar//EN
X-FROM-URL:https://www.bayareascience.org/calendar/index.php?com=details&eID=32600
X-WR-RELCALID:BayAreaScience.org Advancing Sustainability: From Bio-based Materials to Nanostructured Polymers for Battery Membrane Applications 20220824T160000
X-WR-TIMEZONE:America/New_York
X-WR-CALNAME:BayAreaScience.org
BEGIN:VEVENT
URL;VALUE=URI:https://www.bayareascience.org/calendar/index.php?com=detail&eID=32600
DTSTART:20220824T160000
DTEND:20220824T171500
SUMMARY:Advancing Sustainability: From Bio-based Materials to Nanostructured Polymers for Battery Membrane Applications
DESCRIPTION:From...\n______________________________\nThis Event Downloaded From a Helios Calendar Powered Site
LOCATION:Tan Hall - UC Berkeley Room 180\, Berkeley\, CA  94720
CATEGORIES:BayAreaScience.org Events
PRIORITY:0
TRANSP:TRANSPARENT
END:VEVENT
END:VCALENDAR