BEGIN:VCALENDAR
VERSION:2.0
METHOD:PUBLISH
CALSCALE:GREGORIAN
PRODID:-//Refresh Web Development//Helios Calendar//EN
X-FROM-URL:https://www.bayareascience.org/calendar/index.php?com=details&eID=32602
X-WR-RELCALID:BayAreaScience.org Predicting and Observing Patterns of Modern Sea Level Change and Crustal Deformation 20221104T120000
X-WR-TIMEZONE:America/New_York
X-WR-CALNAME:BayAreaScience.org
BEGIN:VEVENT
URL;VALUE=URI:https://www.bayareascience.org/calendar/index.php?com=detail&eID=32602
DTSTART:20221104T120000
DTEND:20221104T120000
SUMMARY:Predicting and Observing Patterns of Modern Sea Level Change and Crustal Deformation
DESCRIPTION:Speaker: Sophie Coulson\, Los Alamos National Laboratory\n______________________________\nThis Event Downloaded From a Helios Calendar Powered Site
LOCATION:Earth and Marine Sciences Building - UC Santa Cruz Room A340\, Santa Cruz\, CA  95064
CATEGORIES:BayAreaScience.org Events
PRIORITY:0
TRANSP:TRANSPARENT
END:VEVENT
END:VCALENDAR