BEGIN:VCALENDAR
VERSION:2.0
METHOD:PUBLISH
CALSCALE:GREGORIAN
PRODID:-//Refresh Web Development//Helios Calendar//EN
X-FROM-URL:https://www.bayareascience.org/calendar/index.php?com=details&eID=32615
X-WR-RELCALID:BayAreaScience.org Using Bioenergetic Analysis to Understand Cellular ATP Supply and Demand During Cell Growth, Cancer, and More 20221024T120000
X-WR-TIMEZONE:America/New_York
X-WR-CALNAME:BayAreaScience.org
BEGIN:VEVENT
URL;VALUE=URI:https://www.bayareascience.org/calendar/index.php?com=detail&eID=32615
DTSTART:20221024T120000
DTEND:20221024T125000
SUMMARY:Using Bioenergetic Analysis to Understand Cellular ATP Supply and Demand During Cell Growth\, Cancer\, and More
DESCRIPTION:Speaker:Â Dr. Shona Mookerjee\, Tuoro University\, California. College of Osteopathic Medicine.\n______________________________\nThis Event Downloaded From a Helios Calendar Powered Site
LOCATION:Sonoma State University - Biology Colloquium - 1801 E Cotati Ave Darwin Hall\, Room 103\, Rohnert Park\, CA  94928
CATEGORIES:BayAreaScience.org Events
PRIORITY:0
TRANSP:TRANSPARENT
END:VEVENT
END:VCALENDAR