BEGIN:VCALENDAR
VERSION:2.0
METHOD:PUBLISH
CALSCALE:GREGORIAN
PRODID:-//Refresh Web Development//Helios Calendar//EN
X-FROM-URL:https://www.bayareascience.org/calendar/index.php?com=details&eID=32619
X-WR-RELCALID:BayAreaScience.org Insect Endosymbionts Mediate Adaptation to Changing Environments in a Montane Leaf Beetle - Livestream 20221121T120000
X-WR-TIMEZONE:America/New_York
X-WR-CALNAME:BayAreaScience.org
BEGIN:VEVENT
URL;VALUE=URI:https://www.bayareascience.org/calendar/index.php?com=detail&eID=32619
DTSTART:20221121T120000
DTEND:20221121T125000
SUMMARY:Insect Endosymbionts Mediate Adaptation to Changing Environments in a Montane Leaf Beetle - Livestream
DESCRIPTION:Speaker:Â Dr. Nathan Rank\, Sonoma State University Biology Department.Click here to attend.\n______________________________\nThis Event Downloaded From a Helios Calendar Powered Site
LOCATION:Sonoma State Biology Colloquium -  \, \, CA  
CATEGORIES:BayAreaScience.org Events
PRIORITY:0
TRANSP:TRANSPARENT
END:VEVENT
END:VCALENDAR