BEGIN:VCALENDAR
VERSION:2.0
METHOD:PUBLISH
CALSCALE:GREGORIAN
PRODID:-//Refresh Web Development//Helios Calendar//EN
X-FROM-URL:https://www.bayareascience.org/calendar/index.php?com=details&eID=32622
X-WR-RELCALID:BayAreaScience.org Foothill Yellow Legged Frog Conservation Biology - Rescheduled 20220926T120000
X-WR-TIMEZONE:America/New_York
X-WR-CALNAME:BayAreaScience.org
BEGIN:VEVENT
URL;VALUE=URI:https://www.bayareascience.org/calendar/index.php?com=detail&eID=32622
DTSTART:20220926T120000
DTEND:20220926T125000
SUMMARY:Foothill Yellow Legged Frog Conservation Biology - Rescheduled
DESCRIPTION:This speaker has been rescheduled for September 19\, 2022.Speaker:Â Dr. Sarah Kupferberg\, UC Berkeley\n______________________________\nThis Event Downloaded From a Helios Calendar Powered Site
LOCATION:Sonoma State University - Biology Colloquium - 1801 E Cotati Ave Darwin Hall\, Room 103\, Rohnert Park\, CA  94928
CATEGORIES:BayAreaScience.org Events
PRIORITY:0
TRANSP:TRANSPARENT
END:VEVENT
END:VCALENDAR