BEGIN:VCALENDAR
VERSION:2.0
METHOD:PUBLISH
CALSCALE:GREGORIAN
PRODID:-//Refresh Web Development//Helios Calendar//EN
X-FROM-URL:https://www.bayareascience.org/calendar/index.php?com=details&eID=32627
X-WR-RELCALID:BayAreaScience.org Science at Cal - An Inside Look: UC Berkeleyâ€™s Center for the Science of Psychedelics 20220910T110000
X-WR-TIMEZONE:America/New_York
X-WR-CALNAME:BayAreaScience.org
BEGIN:VEVENT
URL;VALUE=URI:https://www.bayareascience.org/calendar/index.php?com=detail&eID=32627
DTSTART:20220910T110000
DTEND:20220910T121500
SUMMARY:Science at Cal - An Inside Look: UC Berkeleyâ€™s Center for the Science of Psychedelics
DESCRIPTION:Exactly two years ago\, before the new Netflix documentary series\, â€œHow to Change your Mindâ€ premiered\, the UC Berkeley Center for the Science of Psychedelics (BCSP) was founded to provide...\n______________________________\nThis Event Downloaded From a Helios Calendar Powered Site
LOCATION:Valley Life Sciences Building - UC Berkeley Room 2050\, Berkeley\, CA  94720
CATEGORIES:BayAreaScience.org Events
PRIORITY:0
TRANSP:TRANSPARENT
END:VEVENT
END:VCALENDAR