BEGIN:VCALENDAR
VERSION:2.0
METHOD:PUBLISH
CALSCALE:GREGORIAN
PRODID:-//Refresh Web Development//Helios Calendar//EN
X-FROM-URL:https://www.bayareascience.org/calendar/index.php?com=details&eID=32629
X-WR-RELCALID:BayAreaScience.org Einstein! 20220916T190000
X-WR-TIMEZONE:America/New_York
X-WR-CALNAME:BayAreaScience.org
BEGIN:VEVENT
URL;VALUE=URI:https://www.bayareascience.org/calendar/index.php?com=detail&eID=32629
DTSTART:20220916T190000
DTEND:20220916T203000
SUMMARY:Einstein!
DESCRIPTION:One-man show about the life of Albert Einstein.At the end of the play\, you will have the chance to engage the playwright/actor and a UC Davis astronomer in a Q&A session.Â \n______________________________\nThis Event Downloaded From a Helios Calendar Powered Site
LOCATION:Wright Hall - 210 Hutchison Dr UC Davis\, Davis\, CA  95616
CATEGORIES:BayAreaScience.org Events
PRIORITY:0
TRANSP:TRANSPARENT
END:VEVENT
END:VCALENDAR