BEGIN:VCALENDAR
VERSION:2.0
METHOD:PUBLISH
CALSCALE:GREGORIAN
PRODID:-//Refresh Web Development//Helios Calendar//EN
X-FROM-URL:https://www.bayareascience.org/calendar/index.php?com=details&eID=32633
X-WR-RELCALID:BayAreaScience.org  Slugs and Steins: How Conversational AI Virtual Assistants Learn to Work with Humans - Livestream 20220912T183000
X-WR-TIMEZONE:America/New_York
X-WR-CALNAME:BayAreaScience.org
BEGIN:VEVENT
URL;VALUE=URI:https://www.bayareascience.org/calendar/index.php?com=detail&eID=32633
DTSTART:20220912T183000
DTEND:20220912T200000
SUMMARY: Slugs and Steins: How Conversational AI Virtual Assistants Learn to Work with Humans - Livestream
DESCRIPTION:Conversational AI virtual assistants (e.g.\, Alexa\, Siri\, Google Assistant\, chatbots for business etc.) are becoming popular in different channels (social media\, text messages\, voice\, phone\, email\,...\n______________________________\nThis Event Downloaded From a Helios Calendar Powered Site
LOCATION:UC Santa Cruz -  \, \, CA  
CATEGORIES:BayAreaScience.org Events
PRIORITY:0
TRANSP:TRANSPARENT
END:VEVENT
END:VCALENDAR