BEGIN:VCALENDAR
VERSION:2.0
METHOD:PUBLISH
CALSCALE:GREGORIAN
PRODID:-//Refresh Web Development//Helios Calendar//EN
X-FROM-URL:https://www.bayareascience.org/calendar/index.php?com=details&eID=32634
X-WR-RELCALID:BayAreaScience.org  Blue Innovation 2022  20220911T100000
X-WR-TIMEZONE:America/New_York
X-WR-CALNAME:BayAreaScience.org
BEGIN:VEVENT
URL;VALUE=URI:https://www.bayareascience.org/calendar/index.php?com=detail&eID=32634
DTSTART:20220911T100000
DTEND:20220911T140000
SUMMARY: Blue Innovation 2022 
DESCRIPTION:Enjoy a day with 35+ companies exhibiting solutions for sea level rise and water ocean preservation. Food trucks\, live bands\, and speakers. Â Outdoors at the Seymour Marine Discovery Center of...\n______________________________\nThis Event Downloaded From a Helios Calendar Powered Site
LOCATION:Seymour Marine Discovery Center - 100 McAllister Way \, Santa Cruz\, CA  95060
CATEGORIES:BayAreaScience.org Events
PRIORITY:0
TRANSP:TRANSPARENT
END:VEVENT
END:VCALENDAR