BEGIN:VCALENDAR
VERSION:2.0
METHOD:PUBLISH
CALSCALE:GREGORIAN
PRODID:-//Refresh Web Development//Helios Calendar//EN
X-FROM-URL:https://www.bayareascience.org/calendar/index.php?com=details&eID=32635
X-WR-RELCALID:BayAreaScience.org  Younger Lagoon Reserve Tour  20220827T103000
X-WR-TIMEZONE:America/New_York
X-WR-CALNAME:BayAreaScience.org
BEGIN:VEVENT
URL;VALUE=URI:https://www.bayareascience.org/calendar/index.php?com=detail&eID=32635
DTSTART:20220827T103000
DTEND:20220827T120000
SUMMARY: Younger Lagoon Reserve Tour 
DESCRIPTION:This 90-minute\, behind-the-scenes hiking tour takes visitors into Younger Lagoon Reserve adjacent to the Seymour Marine Discovery Center. Part of the University of California Natural Reserve System\,...\n______________________________\nThis Event Downloaded From a Helios Calendar Powered Site
LOCATION:Seymour Marine Discovery Center - 100 McAllister Way \, Santa Cruz\, CA  95060
CATEGORIES:BayAreaScience.org Events
PRIORITY:0
TRANSP:TRANSPARENT
END:VEVENT
END:VCALENDAR