BEGIN:VCALENDAR
VERSION:2.0
METHOD:PUBLISH
CALSCALE:GREGORIAN
PRODID:-//Refresh Web Development//Helios Calendar//EN
X-FROM-URL:https://www.bayareascience.org/calendar/index.php?com=details&eID=32636
X-WR-RELCALID:BayAreaScience.org Life in Space: a conversation with National Geographic Explorers 20220825T173000
X-WR-TIMEZONE:America/New_York
X-WR-CALNAME:BayAreaScience.org
BEGIN:VEVENT
URL;VALUE=URI:https://www.bayareascience.org/calendar/index.php?com=detail&eID=32636
DTSTART:20220825T173000
DTEND:20220825T200000
SUMMARY:Life in Space: a conversation with National Geographic Explorers
DESCRIPTION:Join us for a discussion with National Geographic Explorers\, Julia De Marines\, Jenny Gil\, and moderated by Kathy Ho on how we detect life in the universe and if we were ever to find life\, how humans...\n______________________________\nThis Event Downloaded From a Helios Calendar Powered Site
LOCATION:CANOPY Jackson Square - 595 Pacific Ave 4th Floor\, San Francisco\, CA  94133
CATEGORIES:BayAreaScience.org Events
PRIORITY:0
TRANSP:TRANSPARENT
END:VEVENT
END:VCALENDAR