BEGIN:VCALENDAR
VERSION:2.0
METHOD:PUBLISH
CALSCALE:GREGORIAN
PRODID:-//Refresh Web Development//Helios Calendar//EN
X-FROM-URL:https://www.bayareascience.org/calendar/index.php?com=details&eID=32637
X-WR-RELCALID:BayAreaScience.org Introduction to the Ray AIR for Scaling AI/ML and Python Workloads - Livestream 20221024T190000
X-WR-TIMEZONE:America/New_York
X-WR-CALNAME:BayAreaScience.org
BEGIN:VEVENT
URL;VALUE=URI:https://www.bayareascience.org/calendar/index.php?com=detail&eID=32637
DTSTART:20221024T190000
DTEND:20221024T203000
SUMMARY:Introduction to the Ray AIR for Scaling AI/ML and Python Workloads - Livestream
DESCRIPTION:Existing production machine learning systems often suffer from various problems that make them hard to use. For example\, data scientists and ML practitioners often spend most of their...\n______________________________\nThis Event Downloaded From a Helios Calendar Powered Site
LOCATION:SF Bay Association of Computing Machinery -  \, \, CA  
CATEGORIES:BayAreaScience.org Events
PRIORITY:0
TRANSP:TRANSPARENT
END:VEVENT
END:VCALENDAR