BEGIN:VCALENDAR
VERSION:2.0
METHOD:PUBLISH
CALSCALE:GREGORIAN
PRODID:-//Refresh Web Development//Helios Calendar//EN
X-FROM-URL:https://www.bayareascience.org/calendar/index.php?com=details&eID=32641
X-WR-RELCALID:BayAreaScience.org COVID-19 and Long COVID: Rapidly Developing Therapies for a New Disease 20221130T193000
X-WR-TIMEZONE:America/New_York
X-WR-CALNAME:BayAreaScience.org
BEGIN:VEVENT
URL;VALUE=URI:https://www.bayareascience.org/calendar/index.php?com=detail&eID=32641
DTSTART:20221130T193000
DTEND:20221130T203000
SUMMARY:COVID-19 and Long COVID: Rapidly Developing Therapies for a New Disease
DESCRIPTION:Speaker: Art Wallace\, VA Medical Center\, San Francisco and UC San Francisco\n______________________________\nThis Event Downloaded From a Helios Calendar Powered Site
LOCATION:Marin Science Seminar - 320 Nova Albion Way Terra Linda High School Innovation Hub 1st Floor\, San Rafael\, CA USA 94903
CATEGORIES:BayAreaScience.org Events
PRIORITY:0
TRANSP:TRANSPARENT
END:VEVENT
END:VCALENDAR