BEGIN:VCALENDAR
VERSION:2.0
METHOD:PUBLISH
CALSCALE:GREGORIAN
PRODID:-//Refresh Web Development//Helios Calendar//EN
X-FROM-URL:https://www.bayareascience.org/calendar/index.php?com=details&eID=32645
X-WR-RELCALID:BayAreaScience.org  Energy Seminar: Sarah Kearney, Founder & Executive Director, Prime Coalition - Livestream 20221017T163000
X-WR-TIMEZONE:America/New_York
X-WR-CALNAME:BayAreaScience.org
BEGIN:VEVENT
URL;VALUE=URI:https://www.bayareascience.org/calendar/index.php?com=detail&eID=32645
DTSTART:20221017T163000
DTEND:20221017T172000
SUMMARY: Energy Seminar: Sarah Kearney\, Founder & Executive Director\, Prime Coalition - Livestream
DESCRIPTION:Sarah Kearney is Founder & Executive Director of Prime Coalition\, a nonprofit organization that works with philanthropists and other mission-driven organizations and individuals to support...\n______________________________\nThis Event Downloaded From a Helios Calendar Powered Site
LOCATION:Stanford Energy Seminar -  \, \, CA  
CATEGORIES:BayAreaScience.org Events
PRIORITY:0
TRANSP:TRANSPARENT
END:VEVENT
END:VCALENDAR