BEGIN:VCALENDAR
VERSION:2.0
METHOD:PUBLISH
CALSCALE:GREGORIAN
PRODID:-//Refresh Web Development//Helios Calendar//EN
X-FROM-URL:https://www.bayareascience.org/calendar/index.php?com=details&eID=32651
X-WR-RELCALID:BayAreaScience.org The James Webb Space Telescope:  Our Giant Eye on the Invisible Sky - Livestream 20220907T123000
X-WR-TIMEZONE:America/New_York
X-WR-CALNAME:BayAreaScience.org
BEGIN:VEVENT
URL;VALUE=URI:https://www.bayareascience.org/calendar/index.php?com=detail&eID=32651
DTSTART:20220907T123000
DTEND:20220907T140000
SUMMARY:The James Webb Space Telescope:  Our Giant Eye on the Invisible Sky - Livestream
DESCRIPTION:The first images from the James Webb Space Telescope were applauded by scientists\, the media\, and the public.Â  But there is far more to our expectations from this remarkable space instrument...\n______________________________\nThis Event Downloaded From a Helios Calendar Powered Site
LOCATION:Osher Livelong Learning Institute -  \, \, CA  
CATEGORIES:BayAreaScience.org Events
PRIORITY:0
TRANSP:TRANSPARENT
END:VEVENT
END:VCALENDAR