BEGIN:VCALENDAR
VERSION:2.0
METHOD:PUBLISH
CALSCALE:GREGORIAN
PRODID:-//Refresh Web Development//Helios Calendar//EN
X-FROM-URL:https://www.bayareascience.org/calendar/index.php?com=details&eID=32652
X-WR-RELCALID:BayAreaScience.org Einstein! 20220904T190000
X-WR-TIMEZONE:America/New_York
X-WR-CALNAME:BayAreaScience.org
BEGIN:VEVENT
URL;VALUE=URI:https://www.bayareascience.org/calendar/index.php?com=detail&eID=32652
DTSTART:20220904T190000
DTEND:20220904T203000
SUMMARY:Einstein!
DESCRIPTION:100 years ago\, Albert Einstein faced difficulty proving his then-new theory of gravity called â€œgeneral relativityâ€. Our astronomers played the pivotal role in proving general relativity...\n______________________________\nThis Event Downloaded From a Helios Calendar Powered Site
LOCATION:Zellerbach Auditorium - UC Berkeley \, Berkeley\, CA  94720
CATEGORIES:BayAreaScience.org Events
PRIORITY:0
TRANSP:TRANSPARENT
END:VEVENT
END:VCALENDAR