BEGIN:VCALENDAR
VERSION:2.0
METHOD:PUBLISH
CALSCALE:GREGORIAN
PRODID:-//Refresh Web Development//Helios Calendar//EN
X-FROM-URL:https://www.bayareascience.org/calendar/index.php?com=details&eID=32654
X-WR-RELCALID:BayAreaScience.org NightSchool: Introduced & On The Loose - Livestream 20220901T190000
X-WR-TIMEZONE:America/New_York
X-WR-CALNAME:BayAreaScience.org
BEGIN:VEVENT
URL;VALUE=URI:https://www.bayareascience.org/calendar/index.php?com=detail&eID=32654
DTSTART:20220901T190000
DTEND:20220901T190000
SUMMARY:NightSchool: Introduced & On The Loose - Livestream
DESCRIPTION:As humans move across the globe\, we sometimes bring along other species\, intentionally or not\, that lay down roots (sometimes literally) in new locations. Join us as we learn how these introduced...\n______________________________\nThis Event Downloaded From a Helios Calendar Powered Site
LOCATION:California Academy of Sciences -  \, \, CA  
CATEGORIES:BayAreaScience.org Events
PRIORITY:0
TRANSP:TRANSPARENT
END:VEVENT
END:VCALENDAR