BEGIN:VCALENDAR
VERSION:2.0
METHOD:PUBLISH
CALSCALE:GREGORIAN
PRODID:-//Refresh Web Development//Helios Calendar//EN
X-FROM-URL:https://www.bayareascience.org/calendar/index.php?com=details&eID=32658
X-WR-RELCALID:BayAreaScience.org Investigating Space: Water on the Moon 20221217T130000
X-WR-TIMEZONE:America/New_York
X-WR-CALNAME:BayAreaScience.org
BEGIN:VEVENT
URL;VALUE=URI:https://www.bayareascience.org/calendar/index.php?com=detail&eID=32658
DTSTART:20221217T130000
DTEND:20221217T140000
SUMMARY:Investigating Space: Water on the Moon
DESCRIPTION:Is there water on the Moon? Weâ€™re about to find with the upcoming mission of NASAâ€™s Prime-1 lunar project. Before Artemis astronauts land on the Moon in 2024\,...\n______________________________\nThis Event Downloaded From a Helios Calendar Powered Site
LOCATION:Chabot Space and Science Center - 10000 Skyline Blvd \, Oakland\, CA USA 94619
CATEGORIES:BayAreaScience.org Events
PRIORITY:0
TRANSP:TRANSPARENT
END:VEVENT
END:VCALENDAR