BEGIN:VCALENDAR
VERSION:2.0
METHOD:PUBLISH
CALSCALE:GREGORIAN
PRODID:-//Refresh Web Development//Helios Calendar//EN
X-FROM-URL:https://www.bayareascience.org/calendar/index.php?com=details&eID=32659
X-WR-RELCALID:BayAreaScience.org Investigating Space: Asteroid Impact 20220917T120000
X-WR-TIMEZONE:America/New_York
X-WR-CALNAME:BayAreaScience.org
BEGIN:VEVENT
URL;VALUE=URI:https://www.bayareascience.org/calendar/index.php?com=detail&eID=32659
DTSTART:20220917T120000
DTEND:20220917T150000
SUMMARY:Investigating Space: Asteroid Impact
DESCRIPTION:Asteroid Impacts NASAâ€™s Double Asteroid Redirection Test (DART)\, the worldâ€™s first full-scale mission to test technology for defending Earth against potential asteroid or comet hazards...\n______________________________\nThis Event Downloaded From a Helios Calendar Powered Site
LOCATION:Chabot Space and Science Center - 10000 Skyline Blvd \, Oakland\, CA USA 94619
CATEGORIES:BayAreaScience.org Events
PRIORITY:0
TRANSP:TRANSPARENT
END:VEVENT
END:VCALENDAR