BEGIN:VCALENDAR
VERSION:2.0
METHOD:PUBLISH
CALSCALE:GREGORIAN
PRODID:-//Refresh Web Development//Helios Calendar//EN
X-FROM-URL:https://www.bayareascience.org/calendar/index.php?com=details&eID=32660
X-WR-RELCALID:BayAreaScience.org Investigating Space: Understanding our Oceans 20221015T130000
X-WR-TIMEZONE:America/New_York
X-WR-CALNAME:BayAreaScience.org
BEGIN:VEVENT
URL;VALUE=URI:https://www.bayareascience.org/calendar/index.php?com=detail&eID=32660
DTSTART:20221015T130000
DTEND:20221015T140000
SUMMARY:Investigating Space: Understanding our Oceans
DESCRIPTION:Discover more about Earth science\, oceanography\, and NASAâ€™s investigative oceanic programs spanning the globe. Weâ€™ll hear from NASA scientists working on two ocean research programs...\n______________________________\nThis Event Downloaded From a Helios Calendar Powered Site
LOCATION:Chabot Space and Science Center - 10000 Skyline Blvd \, Oakland\, CA USA 94619
CATEGORIES:BayAreaScience.org Events
PRIORITY:0
TRANSP:TRANSPARENT
END:VEVENT
END:VCALENDAR