BEGIN:VCALENDAR
VERSION:2.0
METHOD:PUBLISH
CALSCALE:GREGORIAN
PRODID:-//Refresh Web Development//Helios Calendar//EN
X-FROM-URL:https://www.bayareascience.org/calendar/index.php?com=details&eID=32661
X-WR-RELCALID:BayAreaScience.org Investigating Space: Supersonic Flight 20221119T130000
X-WR-TIMEZONE:America/New_York
X-WR-CALNAME:BayAreaScience.org
BEGIN:VEVENT
URL;VALUE=URI:https://www.bayareascience.org/calendar/index.php?com=detail&eID=32661
DTSTART:20221119T130000
DTEND:20221119T140000
SUMMARY:Investigating Space: Supersonic Flight
DESCRIPTION:NASAâ€™s Quiet Supersonic Technology (QueSST) program aims to re-ignite and re-launch supersonic air travel for the 21st Century. Get all the latest news about how NASA is working to transform...\n______________________________\nThis Event Downloaded From a Helios Calendar Powered Site
LOCATION:Chabot Space and Science Center - 10000 Skyline Blvd \, Oakland\, CA USA 94619
CATEGORIES:BayAreaScience.org Events
PRIORITY:0
TRANSP:TRANSPARENT
END:VEVENT
END:VCALENDAR