BEGIN:VCALENDAR
VERSION:2.0
METHOD:PUBLISH
CALSCALE:GREGORIAN
PRODID:-//Refresh Web Development//Helios Calendar//EN
X-FROM-URL:https://www.bayareascience.org/calendar/index.php?com=details&eID=32665
X-WR-RELCALID:BayAreaScience.org  Streamlining Building Decarbonization for a Cleaner California - Livestream 20220908T123000
X-WR-TIMEZONE:America/New_York
X-WR-CALNAME:BayAreaScience.org
BEGIN:VEVENT
URL;VALUE=URI:https://www.bayareascience.org/calendar/index.php?com=detail&eID=32665
DTSTART:20220908T123000
DTEND:20220908T133000
SUMMARY: Streamlining Building Decarbonization for a Cleaner California - Livestream
DESCRIPTION:California plans to be carbon neutral by 2045 and have 7 million climate-ready homes by 2035. For many buildings\, this wonâ€™t be easy: decarbonizing will require upgrades to electrical service...\n______________________________\nThis Event Downloaded From a Helios Calendar Powered Site
LOCATION:SF Planning + Urban Research Assoc. (SPUR) -  \, \, CA  
CATEGORIES:BayAreaScience.org Events
PRIORITY:0
TRANSP:TRANSPARENT
END:VEVENT
END:VCALENDAR