BEGIN:VCALENDAR
VERSION:2.0
METHOD:PUBLISH
CALSCALE:GREGORIAN
PRODID:-//Refresh Web Development//Helios Calendar//EN
X-FROM-URL:https://www.bayareascience.org/calendar/index.php?com=details&eID=32673
X-WR-RELCALID:BayAreaScience.org Why everything you know about shark conservation is wrong: An interdisciplinary look at misinformation along the science-policy interface - Livestream 20221005T110000
X-WR-TIMEZONE:America/New_York
X-WR-CALNAME:BayAreaScience.org
BEGIN:VEVENT
URL;VALUE=URI:https://www.bayareascience.org/calendar/index.php?com=detail&eID=32673
DTSTART:20221005T110000
DTEND:20221005T110000
SUMMARY:Why everything you know about shark conservation is wrong: An interdisciplinary look at misinformation along the science-policy interface - Livestream
DESCRIPTION:More...\n______________________________\nThis Event Downloaded From a Helios Calendar Powered Site
LOCATION:Monterey Bay Aquarium Research Institute -  \, \, CA  
CATEGORIES:BayAreaScience.org Events
PRIORITY:0
TRANSP:TRANSPARENT
END:VEVENT
END:VCALENDAR