BEGIN:VCALENDAR
VERSION:2.0
METHOD:PUBLISH
CALSCALE:GREGORIAN
PRODID:-//Refresh Web Development//Helios Calendar//EN
X-FROM-URL:https://www.bayareascience.org/calendar/index.php?com=details&eID=32674
X-WR-RELCALID:BayAreaScience.org Discovering Wonders of The Night Sky 20221007T190000
X-WR-TIMEZONE:America/New_York
X-WR-CALNAME:BayAreaScience.org
BEGIN:VEVENT
URL;VALUE=URI:https://www.bayareascience.org/calendar/index.php?com=detail&eID=32674
DTSTART:20221007T190000
DTEND:20221007T190000
SUMMARY:Discovering Wonders of The Night Sky
DESCRIPTION:Star Chaserz is a non-profit organization dedicated to promote public awareness\, education\, appreciation\, and preservation of one our most precious\, wonderful and often overlooked natural resources...\n______________________________\nThis Event Downloaded From a Helios Calendar Powered Site
LOCATION:College of San Mateo Bldg 36 - 1700 W Hillsdale Rd \, San Mateo\, CA USA 94402
CATEGORIES:BayAreaScience.org Events
PRIORITY:0
TRANSP:TRANSPARENT
END:VEVENT
END:VCALENDAR