BEGIN:VCALENDAR
VERSION:2.0
METHOD:PUBLISH
CALSCALE:GREGORIAN
PRODID:-//Refresh Web Development//Helios Calendar//EN
X-FROM-URL:https://www.bayareascience.org/calendar/index.php?com=details&eID=32675
X-WR-RELCALID:BayAreaScience.org Shifting Shorelines: A Lake Merritt Site Exploration 20220828T113000
X-WR-TIMEZONE:America/New_York
X-WR-CALNAME:BayAreaScience.org
BEGIN:VEVENT
URL;VALUE=URI:https://www.bayareascience.org/calendar/index.php?com=detail&eID=32675
DTSTART:20220828T113000
DTEND:20220828T150000
SUMMARY:Shifting Shorelines: A Lake Merritt Site Exploration
DESCRIPTION:For this site exploration on the shores of Lake Merritt we will be offering demonstrations\, talks\, nature journaling\, plankton viewing\, quick talks\, and much more. Take a walk on the climate compass...\n______________________________\nThis Event Downloaded From a Helios Calendar Powered Site
LOCATION:Lake Merritt Boat House - 568 Bellevue Ave \, Oakland\, CA USA 94610
CATEGORIES:BayAreaScience.org Events
PRIORITY:0
TRANSP:TRANSPARENT
END:VEVENT
END:VCALENDAR