BEGIN:VCALENDAR
VERSION:2.0
METHOD:PUBLISH
CALSCALE:GREGORIAN
PRODID:-//Refresh Web Development//Helios Calendar//EN
X-FROM-URL:https://www.bayareascience.org/calendar/index.php?com=details&eID=32686
X-WR-RELCALID:BayAreaScience.org Natureâ€™s Toxic Defenses: Why Donâ€™t Poison Frogs Poison Themselves? 20221008T110000
X-WR-TIMEZONE:America/New_York
X-WR-CALNAME:BayAreaScience.org
BEGIN:VEVENT
URL;VALUE=URI:https://www.bayareascience.org/calendar/index.php?com=detail&eID=32686
DTSTART:20221008T110000
DTEND:20221008T123000
SUMMARY:Natureâ€™s Toxic Defenses: Why Donâ€™t Poison Frogs Poison Themselves?
DESCRIPTION:While we might be most familiar with rattlesnakes\, black widows\, and poison frogs (oh my!)\, toxins are produced or acquired by organisms in nearly every major group of life. This means that animals...\n______________________________\nThis Event Downloaded From a Helios Calendar Powered Site
LOCATION:Valley Life Sciences Building - UC Berkeley Room 2050\, Berkeley\, CA  94720
CATEGORIES:BayAreaScience.org Events
PRIORITY:0
TRANSP:TRANSPARENT
END:VEVENT
END:VCALENDAR