BEGIN:VCALENDAR
VERSION:2.0
METHOD:PUBLISH
CALSCALE:GREGORIAN
PRODID:-//Refresh Web Development//Helios Calendar//EN
X-FROM-URL:https://www.bayareascience.org/calendar/index.php?com=details&eID=32687
X-WR-RELCALID:BayAreaScience.org Solano Avenue Stroll 20220911T100000
X-WR-TIMEZONE:America/New_York
X-WR-CALNAME:BayAreaScience.org
BEGIN:VEVENT
URL;VALUE=URI:https://www.bayareascience.org/calendar/index.php?com=detail&eID=32687
DTSTART:20220911T100000
DTEND:20220911T170000
SUMMARY:Solano Avenue Stroll
DESCRIPTION:Meet & greet Cal scientists\, participate in hands-on science activities\, and enjoy over a mile of FREE family fun at the 46th annual Solano Avenue StrollÂ with Science at Cal and The Lawrence...\n______________________________\nThis Event Downloaded From a Helios Calendar Powered Site
LOCATION:Solano Avenue Stroll - 1857 Solano Ave \, Berkeley\, CA  94707
CATEGORIES:BayAreaScience.org Events
PRIORITY:0
TRANSP:TRANSPARENT
END:VEVENT
END:VCALENDAR