BEGIN:VCALENDAR
VERSION:2.0
METHOD:PUBLISH
CALSCALE:GREGORIAN
PRODID:-//Refresh Web Development//Helios Calendar//EN
X-FROM-URL:https://www.bayareascience.org/calendar/index.php?com=details&eID=32689
X-WR-RELCALID:BayAreaScience.org Enhancing Aquaculture Resiliency and Outcomes Through the Lens of Ecophysiology - Livestream 20220926T120000
X-WR-TIMEZONE:America/New_York
X-WR-CALNAME:BayAreaScience.org
BEGIN:VEVENT
URL;VALUE=URI:https://www.bayareascience.org/calendar/index.php?com=detail&eID=32689
DTSTART:20220926T120000
DTEND:20220926T125000
SUMMARY:Enhancing Aquaculture Resiliency and Outcomes Through the Lens of Ecophysiology - Livestream
DESCRIPTION:Speaker:Â Dr. Alyssa R. Frederick \, UC Davis Bodega Marine Lab.This speaker was originally scheduled for September 19.Click...\n______________________________\nThis Event Downloaded From a Helios Calendar Powered Site
LOCATION:Sonoma State Biology Colloquium -  \, \, CA  
CATEGORIES:BayAreaScience.org Events
PRIORITY:0
TRANSP:TRANSPARENT
END:VEVENT
END:VCALENDAR