BEGIN:VCALENDAR
VERSION:2.0
METHOD:PUBLISH
CALSCALE:GREGORIAN
PRODID:-//Refresh Web Development//Helios Calendar//EN
X-FROM-URL:https://www.bayareascience.org/calendar/index.php?com=details&eID=32695
X-WR-RELCALID:BayAreaScience.org Design Principles for Metalloprotein Chemistry 20220923T160000
X-WR-TIMEZONE:America/New_York
X-WR-CALNAME:BayAreaScience.org
BEGIN:VEVENT
URL;VALUE=URI:https://www.bayareascience.org/calendar/index.php?com=detail&eID=32695
DTSTART:20220923T160000
DTEND:20220923T170000
SUMMARY:Design Principles for Metalloprotein Chemistry
DESCRIPTION:Metalloproteins...\n______________________________\nThis Event Downloaded From a Helios Calendar Powered Site
LOCATION:LeConte Hall\, Rm 1 - UC Berkeley \, Berkeley\, CA  94720
CATEGORIES:BayAreaScience.org Events
PRIORITY:0
TRANSP:TRANSPARENT
END:VEVENT
END:VCALENDAR