BEGIN:VCALENDAR
VERSION:2.0
METHOD:PUBLISH
CALSCALE:GREGORIAN
PRODID:-//Refresh Web Development//Helios Calendar//EN
X-FROM-URL:https://www.bayareascience.org/calendar/index.php?com=details&eID=32697
X-WR-RELCALID:BayAreaScience.org The State of Data Engineering 20220908T170000
X-WR-TIMEZONE:America/New_York
X-WR-CALNAME:BayAreaScience.org
BEGIN:VEVENT
URL;VALUE=URI:https://www.bayareascience.org/calendar/index.php?com=detail&eID=32697
DTSTART:20220908T170000
DTEND:20220908T193000
SUMMARY:The State of Data Engineering
DESCRIPTION:What is the current state of data engineering? What other projects are gaining steam in 2022? Which tools are on their way to becoming de facto standards in the industry? Join us as we discuss...\n______________________________\nThis Event Downloaded From a Helios Calendar Powered Site
LOCATION:Microsoft Reactor - 680 Folsom St # 145\, San Francisco\, CA  94107
CATEGORIES:BayAreaScience.org Events
PRIORITY:0
TRANSP:TRANSPARENT
END:VEVENT
END:VCALENDAR