BEGIN:VCALENDAR
VERSION:2.0
METHOD:PUBLISH
CALSCALE:GREGORIAN
PRODID:-//Refresh Web Development//Helios Calendar//EN
X-FROM-URL:https://www.bayareascience.org/calendar/index.php?com=details&eID=32699
X-WR-RELCALID:BayAreaScience.org Wonderfest: Humble Spud: The Potato's Wonderful History and Promising Future 20220830T190000
X-WR-TIMEZONE:America/New_York
X-WR-CALNAME:BayAreaScience.org
BEGIN:VEVENT
URL;VALUE=URI:https://www.bayareascience.org/calendar/index.php?com=detail&eID=32699
DTSTART:20220830T190000
DTEND:20220830T203000
SUMMARY:Wonderfest: Humble Spud: The Potato's Wonderful History and Promising Future
DESCRIPTION:Potatoes are often invisible on one's plate\, but this is a food you can rely on to soothe your soul and your stomach. Due to the humble spud's capacity to keep people alive in so many diverse environments\,...\n______________________________\nThis Event Downloaded From a Helios Calendar Powered Site
LOCATION:Hopmonk Tavern - Session Room 224 Vintage Way\, Novato\, CA  94945
CATEGORIES:BayAreaScience.org Events
PRIORITY:0
TRANSP:TRANSPARENT
END:VEVENT
END:VCALENDAR