BEGIN:VCALENDAR
VERSION:2.0
METHOD:PUBLISH
CALSCALE:GREGORIAN
PRODID:-//Refresh Web Development//Helios Calendar//EN
X-FROM-URL:https://www.bayareascience.org/calendar/index.php?com=details&eID=32704
X-WR-RELCALID:BayAreaScience.org Redesigning Our Communities for Life After Fossil Fuels - Livestream 20220910T100000
X-WR-TIMEZONE:America/New_York
X-WR-CALNAME:BayAreaScience.org
BEGIN:VEVENT
URL;VALUE=URI:https://www.bayareascience.org/calendar/index.php?com=detail&eID=32704
DTSTART:20220910T100000
DTEND:20220910T133000
SUMMARY:Redesigning Our Communities for Life After Fossil Fuels - Livestream
DESCRIPTION:Biodiversity for a Livable Climate is partnering with the Post Carbon Institute and many local community groups to bring you a series of events on transitioning our communities to manage our ecological...\n______________________________\nThis Event Downloaded From a Helios Calendar Powered Site
LOCATION:Post Carbon Institute -  \, \, CA  
CATEGORIES:BayAreaScience.org Events
PRIORITY:0
TRANSP:TRANSPARENT
END:VEVENT
END:VCALENDAR