BEGIN:VCALENDAR
VERSION:2.0
METHOD:PUBLISH
CALSCALE:GREGORIAN
PRODID:-//Refresh Web Development//Helios Calendar//EN
X-FROM-URL:https://www.bayareascience.org/calendar/index.php?com=details&eID=32705
X-WR-RELCALID:BayAreaScience.org A new neural network for optimal time series processing - Livestream 20220926T190000
X-WR-TIMEZONE:America/New_York
X-WR-CALNAME:BayAreaScience.org
BEGIN:VEVENT
URL;VALUE=URI:https://www.bayareascience.org/calendar/index.php?com=detail&eID=32705
DTSTART:20220926T190000
DTEND:20220926T203000
SUMMARY:A new neural network for optimal time series processing - Livestream
DESCRIPTION:We have recently discovered a new kind of neural network\, called a Legendre Memory Unit (LMU) that is provably optimal for compressing streaming time series data. In this talk\, I describe this...\n______________________________\nThis Event Downloaded From a Helios Calendar Powered Site
LOCATION:SF Bay Association of Computing Machinery -  \, \, CA  
CATEGORIES:BayAreaScience.org Events
PRIORITY:0
TRANSP:TRANSPARENT
END:VEVENT
END:VCALENDAR