BEGIN:VCALENDAR
VERSION:2.0
METHOD:PUBLISH
CALSCALE:GREGORIAN
PRODID:-//Refresh Web Development//Helios Calendar//EN
X-FROM-URL:https://www.bayareascience.org/calendar/index.php?com=details&eID=32706
X-WR-RELCALID:BayAreaScience.org Bioinorganic Actinide Chemistry: Oxymoron or Allegory? 20220902T160000
X-WR-TIMEZONE:America/New_York
X-WR-CALNAME:BayAreaScience.org
BEGIN:VEVENT
URL;VALUE=URI:https://www.bayareascience.org/calendar/index.php?com=detail&eID=32706
DTSTART:20220902T160000
DTEND:20220902T170000
SUMMARY:Bioinorganic Actinide Chemistry: Oxymoron or Allegory?
DESCRIPTION:From potential...\n______________________________\nThis Event Downloaded From a Helios Calendar Powered Site
LOCATION:LeConte Hall\, Rm 1 - UC Berkeley \, Berkeley\, CA  94720
CATEGORIES:BayAreaScience.org Events
PRIORITY:0
TRANSP:TRANSPARENT
END:VEVENT
END:VCALENDAR