BEGIN:VCALENDAR
VERSION:2.0
METHOD:PUBLISH
CALSCALE:GREGORIAN
PRODID:-//Refresh Web Development//Helios Calendar//EN
X-FROM-URL:https://www.bayareascience.org/calendar/index.php?com=details&eID=32708
X-WR-RELCALID:BayAreaScience.org The ToNightLife Show Starring BigPicture 20220929T180000
X-WR-TIMEZONE:America/New_York
X-WR-CALNAME:BayAreaScience.org
BEGIN:VEVENT
URL;VALUE=URI:https://www.bayareascience.org/calendar/index.php?com=detail&eID=32708
DTSTART:20220929T180000
DTEND:20220929T220000
SUMMARY:The ToNightLife Show Starring BigPicture
DESCRIPTION:Gooood evening\, San Francisco! Weâ€™re inviting you to be our live â€˜studioâ€™ audience at the first ever ToNightLife Show. This evening's show stars BigPicture\, an exhibition...\n______________________________\nThis Event Downloaded From a Helios Calendar Powered Site
LOCATION:California Academy of Sciences - 55 Music Concourse Dr. \, San Francisco\, CA USA 94118
CATEGORIES:BayAreaScience.org Events
PRIORITY:0
TRANSP:TRANSPARENT
END:VEVENT
END:VCALENDAR