BEGIN:VCALENDAR
VERSION:2.0
METHOD:PUBLISH
CALSCALE:GREGORIAN
PRODID:-//Refresh Web Development//Helios Calendar//EN
X-FROM-URL:https://www.bayareascience.org/calendar/index.php?com=details&eID=32715
X-WR-RELCALID:BayAreaScience.org Dark Matter Scattering in Low Threshold Detectors 20221017T160000
X-WR-TIMEZONE:America/New_York
X-WR-CALNAME:BayAreaScience.org
BEGIN:VEVENT
URL;VALUE=URI:https://www.bayareascience.org/calendar/index.php?com=detail&eID=32715
DTSTART:20221017T160000
DTEND:20221017T170000
SUMMARY:Dark Matter Scattering in Low Threshold Detectors
DESCRIPTION:Only 20% of the matter in our universe is visible to us\, while the remaining "dark" matter has so far remained elusive to our best experimental efforts. Upcoming detector technology however makes...\n______________________________\nThis Event Downloaded From a Helios Calendar Powered Site
LOCATION:Sonoma State University - What Physicists Do - 1801 E. Cotati Ave. Darwin Hall\, Room 103\, Rohnert Park\, CA USA 94928
CATEGORIES:BayAreaScience.org Events
PRIORITY:0
TRANSP:TRANSPARENT
END:VEVENT
END:VCALENDAR