BEGIN:VCALENDAR
VERSION:2.0
METHOD:PUBLISH
CALSCALE:GREGORIAN
PRODID:-//Refresh Web Development//Helios Calendar//EN
X-FROM-URL:https://www.bayareascience.org/calendar/index.php?com=details&eID=32717
X-WR-RELCALID:BayAreaScience.org An Unexpected Journey: Finding Opportunities, Climbing Out of Pitfalls and Searching for Adventures in Physics - Livestream 20221031T160000
X-WR-TIMEZONE:America/New_York
X-WR-CALNAME:BayAreaScience.org
BEGIN:VEVENT
URL;VALUE=URI:https://www.bayareascience.org/calendar/index.php?com=detail&eID=32717
DTSTART:20221031T160000
DTEND:20221031T170000
SUMMARY:An Unexpected Journey: Finding Opportunities\, Climbing Out of Pitfalls and Searching for Adventures in Physics - Livestream
DESCRIPTION:...\n______________________________\nThis Event Downloaded From a Helios Calendar Powered Site
LOCATION:Sonoma State University - What Physicists Do - 1801 E. Cotati Ave. Darwin Hall\, Room 103\, Rohnert Park\, CA USA 94928
CATEGORIES:BayAreaScience.org Events
PRIORITY:0
TRANSP:TRANSPARENT
END:VEVENT
END:VCALENDAR