BEGIN:VCALENDAR
VERSION:2.0
METHOD:PUBLISH
CALSCALE:GREGORIAN
PRODID:-//Refresh Web Development//Helios Calendar//EN
X-FROM-URL:https://www.bayareascience.org/calendar/index.php?com=details&eID=32719
X-WR-RELCALID:BayAreaScience.org 1.5 C - Carbon to Value - Panel Event 20220907T180000
X-WR-TIMEZONE:America/New_York
X-WR-CALNAME:BayAreaScience.org
BEGIN:VEVENT
URL;VALUE=URI:https://www.bayareascience.org/calendar/index.php?com=detail&eID=32719
DTSTART:20220907T180000
DTEND:20220907T210000
SUMMARY:1.5 C - Carbon to Value - Panel Event
DESCRIPTION:Climate Tech Action Network (CTAN) presents 1.5Â°C\, a quarterly climate technology panel event that will focus on the engineering and scientific challenges facing different verticals of the climate...\n______________________________\nThis Event Downloaded From a Helios Calendar Powered Site
LOCATION:Manny's - 3092 16th St \, San Francisco\, CA  94103
CATEGORIES:BayAreaScience.org Events
PRIORITY:0
TRANSP:TRANSPARENT
END:VEVENT
END:VCALENDAR