BEGIN:VCALENDAR
VERSION:2.0
METHOD:PUBLISH
CALSCALE:GREGORIAN
PRODID:-//Refresh Web Development//Helios Calendar//EN
X-FROM-URL:https://www.bayareascience.org/calendar/index.php?com=details&eID=32720
X-WR-RELCALID:BayAreaScience.org After Dark: See for Yourself 20220915T180000
X-WR-TIMEZONE:America/New_York
X-WR-CALNAME:BayAreaScience.org
BEGIN:VEVENT
URL;VALUE=URI:https://www.bayareascience.org/calendar/index.php?com=detail&eID=32720
DTSTART:20220915T180000
DTEND:20220915T220000
SUMMARY:After Dark: See for Yourself
DESCRIPTION:The Exploratorium is your playground after dark! Wander the galleries\, sip a cocktail\, and let a DJ from Hip Hop for Change set the vibe. New exhibits are constantly being developed at the museum\,...\n______________________________\nThis Event Downloaded From a Helios Calendar Powered Site
LOCATION:ExplOratorium - Pier 15 (Embarcadero at Green Street)  \, San Francisco\, CA USA 94111
CATEGORIES:BayAreaScience.org Events
PRIORITY:0
TRANSP:TRANSPARENT
END:VEVENT
END:VCALENDAR