BEGIN:VCALENDAR
VERSION:2.0
METHOD:PUBLISH
CALSCALE:GREGORIAN
PRODID:-//Refresh Web Development//Helios Calendar//EN
X-FROM-URL:https://www.bayareascience.org/calendar/index.php?com=details&eID=32722
X-WR-RELCALID:BayAreaScience.org NASA Artemis 1 Launch Watch Party 20220903T103000
X-WR-TIMEZONE:America/New_York
X-WR-CALNAME:BayAreaScience.org
BEGIN:VEVENT
URL;VALUE=URI:https://www.bayareascience.org/calendar/index.php?com=detail&eID=32722
DTSTART:20220903T103000
DTEND:20220903T103000
SUMMARY:NASA Artemis 1 Launch Watch Party
DESCRIPTION:See the most powerful rocket in the world take off in Chabotâ€™s 60-foot diameter giant screen Theatre. Posters and NASA apparel are encouraged as we celebrate this exciting moment in space...\n______________________________\nThis Event Downloaded From a Helios Calendar Powered Site
LOCATION:Chabot Space and Science Center - 10000 Skyline Blvd \, Oakland\, CA USA 94619
CATEGORIES:BayAreaScience.org Events
PRIORITY:0
TRANSP:TRANSPARENT
END:VEVENT
END:VCALENDAR