BEGIN:VCALENDAR
VERSION:2.0
METHOD:PUBLISH
CALSCALE:GREGORIAN
PRODID:-//Refresh Web Development//Helios Calendar//EN
X-FROM-URL:https://www.bayareascience.org/calendar/index.php?com=details&eID=32723
X-WR-RELCALID:BayAreaScience.org Sunset Science: Mysteries of Deep Space 20220923T180000
X-WR-TIMEZONE:America/New_York
X-WR-CALNAME:BayAreaScience.org
BEGIN:VEVENT
URL;VALUE=URI:https://www.bayareascience.org/calendar/index.php?com=detail&eID=32723
DTSTART:20220923T180000
DTEND:20220923T210000
SUMMARY:Sunset Science: Mysteries of Deep Space
DESCRIPTION:Enjoy an autumn night with a festive gathering for the whole family that will explore the deepest regions of our universe in our family friendly program followed by telescope viewing on our observation...\n______________________________\nThis Event Downloaded From a Helios Calendar Powered Site
LOCATION:Chabot Space and Science Center - 10000 Skyline Blvd \, Oakland\, CA USA 94619
CATEGORIES:BayAreaScience.org Events
PRIORITY:0
TRANSP:TRANSPARENT
END:VEVENT
END:VCALENDAR